BEGIN:VCALENDAR
VERSION:2.0
PRODID:-//City of Boston//No-Tow//EN
BEGIN:VEVENT
SUMMARY:Street sweeping: Chestnut Ave
DESCRIPTION:http://www.cityofboston.gov/publicworks/sweeping?streetname=Chestnut Ave \nGenerated by City of Boston No-Tow
LOCATION:Mozart St to Boylston St (Even)
DTSTART;TZID=US-Eastern:20260427T080000
DTEND;TZID=US-Eastern:20260427T120000
TRANSP:TRANSPARENT
BEGIN:VALARM
TRIGGER:-P24H
ACTION:DISPLAY
END:VALARM
END:VEVENT
END:VCALENDAR