BEGIN:VCALENDAR
VERSION:2.0
PRODID:-//City of Boston//No-Tow//EN
BEGIN:VEVENT
SUMMARY:Street sweeping: Chestnut Hill Ave
DESCRIPTION:http://www.cityofboston.gov/publicworks/sweeping?streetname=Chestnut Hill Ave \nGenerated by City of Boston No-Tow
LOCATION:Commonwealth Ave to Brookline Town Line (Even)
DTSTART;TZID=US-Eastern:20260422T120000
DTEND;TZID=US-Eastern:20260422T160000
TRANSP:TRANSPARENT
BEGIN:VALARM
TRIGGER:-P24H
ACTION:DISPLAY
END:VALARM
END:VEVENT
END:VCALENDAR